BEGIN:VCALENDAR
VERSION:2.0
PRODID:-//3nity.com//3nity CMS//EN
BEGIN:VEVENT
SUMMARY:Pastoral Retirement Celebration of Pastor Carson F. Jones Jr. & Sister Vickie Jones - Saturday, October 3, 2026
UID:2026-07-18-1216959@www.coleyspringsmbc.org
SEQUENCE:0
STATUS:CONFIRMED
DTSTART:20260422T113200
DTEND:20260423T103200
DTSTAMP:20161222T120000
DESCRIPTION:Reflecting on 27 years of service to Coley Springs MBC and the Warren County community at large.
URL:http://www.coleyspringsmbc.org
END:VEVENT
END:VCALENDAR
